BEGIN:VCALENDAR
VERSION:2.0
PRODID:-//HOG-Verband - ECPv5.14.0.4//NONSGML v1.0//EN
CALSCALE:GREGORIAN
METHOD:PUBLISH
X-WR-CALNAME:HOG-Verband
X-ORIGINAL-URL:http://hog-verband.de
X-WR-CALDESC:Veranstaltungen für HOG-Verband
BEGIN:VTIMEZONE
TZID:UTC
BEGIN:STANDARD
TZOFFSETFROM:+0000
TZOFFSETTO:+0000
TZNAME:UTC
DTSTART:20230101T000000
END:STANDARD
END:VTIMEZONE
BEGIN:VEVENT
DTSTART;VALUE=DATE:20231202
DTEND;VALUE=DATE:20231203
DTSTAMP:20260424T172841
CREATED:20231129T213659Z
LAST-MODIFIED:20231129T213659Z
UID:3090-1701475200-1701561599@hog-verband.de
SUMMARY:02. Dezember 2023 – Holzmenger Weihnachtsfeier – in Stuttgart
DESCRIPTION:
URL:http://hog-verband.de/event/02-dezember-2023-holzmenger-weihnachtsfeier-in-stuttgart
END:VEVENT
END:VCALENDAR