BEGIN:VCALENDAR
VERSION:2.0
PRODID:-//HOG-Verband - ECPv5.14.0.4//NONSGML v1.0//EN
CALSCALE:GREGORIAN
METHOD:PUBLISH
X-WR-CALNAME:HOG-Verband
X-ORIGINAL-URL:http://hog-verband.de
X-WR-CALDESC:Veranstaltungen für HOG-Verband
BEGIN:VTIMEZONE
TZID:UTC
BEGIN:STANDARD
TZOFFSETFROM:+0000
TZOFFSETTO:+0000
TZNAME:UTC
DTSTART:20230101T000000
END:STANDARD
END:VTIMEZONE
BEGIN:VEVENT
DTSTART;VALUE=DATE:20230902
DTEND;VALUE=DATE:20230903
DTSTAMP:20260423T024110
CREATED:20230628T095609Z
LAST-MODIFIED:20230628T095623Z
UID:2852-1693612800-1693699199@hog-verband.de
SUMMARY:02. September 2023 - Nimescher Treffen - in Fuldabrück
DESCRIPTION:
URL:http://hog-verband.de/event/02-september-2023-nimescher-treffen-in-fuldabrueck
END:VEVENT
END:VCALENDAR