BEGIN:VCALENDAR
VERSION:2.0
PRODID:-//HOG-Verband - ECPv5.14.0.4//NONSGML v1.0//EN
CALSCALE:GREGORIAN
METHOD:PUBLISH
X-WR-CALNAME:HOG-Verband
X-ORIGINAL-URL:http://hog-verband.de
X-WR-CALDESC:Veranstaltungen für HOG-Verband
BEGIN:VTIMEZONE
TZID:UTC
BEGIN:STANDARD
TZOFFSETFROM:+0000
TZOFFSETTO:+0000
TZNAME:UTC
DTSTART:20230101T000000
END:STANDARD
END:VTIMEZONE
BEGIN:VEVENT
DTSTART;VALUE=DATE:20231007
DTEND;VALUE=DATE:20231008
DTSTAMP:20260424T095037
CREATED:20230818T131822Z
LAST-MODIFIED:20230818T131822Z
UID:2918-1696636800-1696723199@hog-verband.de
SUMMARY:07. Oktober 2023 - Steiner Treffen - in Roßtal
DESCRIPTION:
URL:http://hog-verband.de/event/07-oktober-2023-steiner-treffen-in-rosstal
END:VEVENT
END:VCALENDAR