BEGIN:VCALENDAR
VERSION:2.0
PRODID:-//HOG-Verband - ECPv5.14.0.4//NONSGML v1.0//EN
CALSCALE:GREGORIAN
METHOD:PUBLISH
X-WR-CALNAME:HOG-Verband
X-ORIGINAL-URL:http://hog-verband.de
X-WR-CALDESC:Veranstaltungen für HOG-Verband
BEGIN:VTIMEZONE
TZID:UTC
BEGIN:STANDARD
TZOFFSETFROM:+0000
TZOFFSETTO:+0000
TZNAME:UTC
DTSTART:20240101T000000
END:STANDARD
END:VTIMEZONE
BEGIN:VEVENT
DTSTART;VALUE=DATE:20240309
DTEND;VALUE=DATE:20240310
DTSTAMP:20260425T152230
CREATED:20240304T084333Z
LAST-MODIFIED:20240304T085506Z
UID:3244-1709942400-1710028799@hog-verband.de
SUMMARY:09. März 2024 - Trachtenworkshop der HOG Großau - in Bad Überkingen
DESCRIPTION:Infos und Anmeldung www.grossau.de
URL:http://hog-verband.de/event/09-maerz-2024-trachtenworkshop-der-hog-grossau-in-bad-ueberkingen
END:VEVENT
END:VCALENDAR