BEGIN:VCALENDAR
VERSION:2.0
PRODID:-//HOG-Verband - ECPv5.14.0.4//NONSGML v1.0//EN
CALSCALE:GREGORIAN
METHOD:PUBLISH
X-WR-CALNAME:HOG-Verband
X-ORIGINAL-URL:http://hog-verband.de
X-WR-CALDESC:Veranstaltungen für HOG-Verband
BEGIN:VTIMEZONE
TZID:UTC
BEGIN:STANDARD
TZOFFSETFROM:+0000
TZOFFSETTO:+0000
TZNAME:UTC
DTSTART:20230101T000000
END:STANDARD
END:VTIMEZONE
BEGIN:VEVENT
DTSTART;VALUE=DATE:20230812
DTEND;VALUE=DATE:20230814
DTSTAMP:20260422T194047
CREATED:20230521T145811Z
LAST-MODIFIED:20230521T145907Z
UID:2824-1691798400-1691971199@hog-verband.de
SUMMARY:12. - 13. August 2023 - Honigberger Heimattreffen - in Honigberg - Siebenbürgen
DESCRIPTION:Einladung zum fünften Begegnungsfest in Honigberg – Siebenbuerger.de
URL:http://hog-verband.de/event/12-13-august-2023-honigberger-heimattreffen-in-honigberg-siebenbuergen
END:VEVENT
END:VCALENDAR