BEGIN:VCALENDAR
VERSION:2.0
PRODID:-//HOG-Verband - ECPv5.14.0.4//NONSGML v1.0//EN
CALSCALE:GREGORIAN
METHOD:PUBLISH
X-WR-CALNAME:HOG-Verband
X-ORIGINAL-URL:http://hog-verband.de
X-WR-CALDESC:Veranstaltungen für HOG-Verband
BEGIN:VTIMEZONE
TZID:UTC
BEGIN:STANDARD
TZOFFSETFROM:+0000
TZOFFSETTO:+0000
TZNAME:UTC
DTSTART:20240101T000000
END:STANDARD
END:VTIMEZONE
BEGIN:VEVENT
DTSTART;VALUE=DATE:20240412
DTEND;VALUE=DATE:20240415
DTSTAMP:20260425T213855
CREATED:20240105T094926Z
LAST-MODIFIED:20240105T094926Z
UID:3157-1712880000-1713139199@hog-verband.de
SUMMARY:12. - 14. April 2024 - Arbeitstagung der Burzenländer Ortsvertreter - in Crailsheim-Westgartshausen
DESCRIPTION:
URL:http://hog-verband.de/event/12-14-april-2024-arbeitstagung-der-burzenlaender-ortsvertreter-in-crailsheim-westgartshausen
END:VEVENT
END:VCALENDAR