BEGIN:VCALENDAR
VERSION:2.0
PRODID:-//HOG-Verband - ECPv5.14.0.4//NONSGML v1.0//EN
CALSCALE:GREGORIAN
METHOD:PUBLISH
X-WR-CALNAME:HOG-Verband
X-ORIGINAL-URL:http://hog-verband.de
X-WR-CALDESC:Veranstaltungen für HOG-Verband
BEGIN:VTIMEZONE
TZID:UTC
BEGIN:STANDARD
TZOFFSETFROM:+0000
TZOFFSETTO:+0000
TZNAME:UTC
DTSTART:20240101T000000
END:STANDARD
END:VTIMEZONE
BEGIN:VEVENT
DTSTART;VALUE=DATE:20240112
DTEND;VALUE=DATE:20240115
DTSTAMP:20260424T231801
CREATED:20240105T100909Z
LAST-MODIFIED:20240105T101922Z
UID:3163-1705017600-1705276799@hog-verband.de
SUMMARY:12. - 14. Januar 2024 - Burzenländer Skifreizeit Wolkensteinhütte - in Neunkirchen am Großvenediger (Österreich)
DESCRIPTION:
URL:http://hog-verband.de/event/12-14-januar-2024-skifreizeit-wolkensteinhuette-in-neunkirchen-am-grossvenediger-oesterreich
END:VEVENT
END:VCALENDAR