BEGIN:VCALENDAR
VERSION:2.0
PRODID:-//HOG-Verband - ECPv5.14.0.4//NONSGML v1.0//EN
CALSCALE:GREGORIAN
METHOD:PUBLISH
X-WR-CALNAME:HOG-Verband
X-ORIGINAL-URL:http://hog-verband.de
X-WR-CALDESC:Veranstaltungen für HOG-Verband
BEGIN:VTIMEZONE
TZID:UTC
BEGIN:STANDARD
TZOFFSETFROM:+0000
TZOFFSETTO:+0000
TZNAME:UTC
DTSTART:20240101T000000
END:STANDARD
END:VTIMEZONE
BEGIN:VEVENT
DTSTART;VALUE=DATE:20240316
DTEND;VALUE=DATE:20240317
DTSTAMP:20260425T200522
CREATED:20240214T171336Z
LAST-MODIFIED:20240214T171423Z
UID:3186-1710547200-1710633599@hog-verband.de
SUMMARY:16. März 2024 - Tagung der Regionalgruppe Hermannstadt-Harbachtal - in Grafenau
DESCRIPTION:
URL:http://hog-verband.de/event/16-maerz-2024-tagung-regionalgruppe-hermannstadt-harbachtal-in-grafenau
END:VEVENT
END:VCALENDAR