BEGIN:VCALENDAR
VERSION:2.0
PRODID:-//HOG-Verband - ECPv5.14.0.4//NONSGML v1.0//EN
CALSCALE:GREGORIAN
METHOD:PUBLISH
X-WR-CALNAME:HOG-Verband
X-ORIGINAL-URL:http://hog-verband.de
X-WR-CALDESC:Veranstaltungen für HOG-Verband
BEGIN:VTIMEZONE
TZID:UTC
BEGIN:STANDARD
TZOFFSETFROM:+0000
TZOFFSETTO:+0000
TZNAME:UTC
DTSTART:20230101T000000
END:STANDARD
END:VTIMEZONE
BEGIN:VEVENT
DTSTART;VALUE=DATE:20230916
DTEND;VALUE=DATE:20230917
DTSTAMP:20260423T092715
CREATED:20230719T132854Z
LAST-MODIFIED:20230719T132854Z
UID:2889-1694822400-1694908799@hog-verband.de
SUMMARY:16. September 2023 - Dunnesdorfer Treffen - in Erbach-Dellmensingen
DESCRIPTION:
URL:http://hog-verband.de/event/16-september-2023-dunnesdorfer-treffen-in-erbach-dellmensingen
END:VEVENT
END:VCALENDAR