BEGIN:VCALENDAR
VERSION:2.0
PRODID:-//HOG-Verband - ECPv5.14.0.4//NONSGML v1.0//EN
CALSCALE:GREGORIAN
METHOD:PUBLISH
X-WR-CALNAME:HOG-Verband
X-ORIGINAL-URL:http://hog-verband.de
X-WR-CALDESC:Veranstaltungen für HOG-Verband
BEGIN:VTIMEZONE
TZID:UTC
BEGIN:STANDARD
TZOFFSETFROM:+0000
TZOFFSETTO:+0000
TZNAME:UTC
DTSTART:20230101T000000
END:STANDARD
END:VTIMEZONE
BEGIN:VEVENT
DTSTART;VALUE=DATE:20230722
DTEND;VALUE=DATE:20230723
DTSTAMP:20260422T105438
CREATED:20230220T153418Z
LAST-MODIFIED:20230220T153418Z
UID:2788-1689984000-1690070399@hog-verband.de
SUMMARY:22. Juli 2023 - Eisenmarkter Treffen - in Gablingen bei Augsburg
DESCRIPTION:
URL:http://hog-verband.de/event/22-juli-2023-eisenmarkter-treffen-in-gablingen-bei-augsburg
END:VEVENT
END:VCALENDAR