BEGIN:VCALENDAR
VERSION:2.0
PRODID:-//HOG-Verband - ECPv5.14.0.4//NONSGML v1.0//EN
CALSCALE:GREGORIAN
METHOD:PUBLISH
X-WR-CALNAME:HOG-Verband
X-ORIGINAL-URL:http://hog-verband.de
X-WR-CALDESC:Veranstaltungen für HOG-Verband
BEGIN:VTIMEZONE
TZID:UTC
BEGIN:STANDARD
TZOFFSETFROM:+0000
TZOFFSETTO:+0000
TZNAME:UTC
DTSTART:20240101T000000
END:STANDARD
END:VTIMEZONE
BEGIN:VEVENT
DTSTART;VALUE=DATE:20240427
DTEND;VALUE=DATE:20240428
DTSTAMP:20260426T021950
CREATED:20231128T122745Z
LAST-MODIFIED:20231128T122838Z
UID:3073-1714176000-1714262399@hog-verband.de
SUMMARY:27. April 2024 - Großpolder HOG-Treffen - in Ingolstadt
DESCRIPTION:
URL:http://hog-verband.de/event/27-april-2024-grosspolder-hog-treffen-in-ingolstadt
END:VEVENT
END:VCALENDAR