BEGIN:VCALENDAR
VERSION:2.0
PRODID:-//HOG-Verband - ECPv5.14.0.4//NONSGML v1.0//EN
CALSCALE:GREGORIAN
METHOD:PUBLISH
X-WR-CALNAME:HOG-Verband
X-ORIGINAL-URL:http://hog-verband.de
X-WR-CALDESC:Veranstaltungen für HOG-Verband
BEGIN:VTIMEZONE
TZID:UTC
BEGIN:STANDARD
TZOFFSETFROM:+0000
TZOFFSETTO:+0000
TZNAME:UTC
DTSTART:20240101T000000
END:STANDARD
END:VTIMEZONE
BEGIN:VEVENT
DTSTART;VALUE=DATE:20240127
DTEND;VALUE=DATE:20240128
DTSTAMP:20260425T023311
CREATED:20231122T164954Z
LAST-MODIFIED:20240105T102042Z
UID:3043-1706313600-1706399999@hog-verband.de
SUMMARY:27. Januar 2024 - Faschingstreffen der HOG-Hetzeldorf - in Kleinsachsenheim
DESCRIPTION:
URL:http://hog-verband.de/event/27-januar-2024-faschingstreffen-der-hog-hetzeldorf-in-kleinsachsenheim
END:VEVENT
END:VCALENDAR