BEGIN:VCALENDAR
VERSION:2.0
PRODID:-//HOG-Verband - ECPv5.14.0.4//NONSGML v1.0//EN
CALSCALE:GREGORIAN
METHOD:PUBLISH
X-WR-CALNAME:HOG-Verband
X-ORIGINAL-URL:http://hog-verband.de
X-WR-CALDESC:Veranstaltungen für HOG-Verband
BEGIN:VTIMEZONE
TZID:UTC
BEGIN:STANDARD
TZOFFSETFROM:+0000
TZOFFSETTO:+0000
TZNAME:UTC
DTSTART:20240101T000000
END:STANDARD
END:VTIMEZONE
BEGIN:VEVENT
DTSTART;VALUE=DATE:20240127
DTEND;VALUE=DATE:20240128
DTSTAMP:20260425T022954
CREATED:20231129T213512Z
LAST-MODIFIED:20231129T213512Z
UID:3088-1706313600-1706399999@hog-verband.de
SUMMARY:27. Januar 2024 - Großer Siebenbürgerball 2024 in München
DESCRIPTION:
URL:http://hog-verband.de/event/27-januar-2024-grosser-siebenbuergerball-2024-in-muenchen
END:VEVENT
END:VCALENDAR