BEGIN:VCALENDAR
VERSION:2.0
PRODID:-//HOG-Verband - ECPv5.14.0.4//NONSGML v1.0//EN
CALSCALE:GREGORIAN
METHOD:PUBLISH
X-WR-CALNAME:HOG-Verband
X-ORIGINAL-URL:http://hog-verband.de
X-WR-CALDESC:Veranstaltungen für HOG-Verband
BEGIN:VTIMEZONE
TZID:UTC
BEGIN:STANDARD
TZOFFSETFROM:+0000
TZOFFSETTO:+0000
TZNAME:UTC
DTSTART:20230101T000000
END:STANDARD
END:VTIMEZONE
BEGIN:VEVENT
DTSTART;VALUE=DATE:20230930
DTEND;VALUE=DATE:20231001
DTSTAMP:20260423T225744
CREATED:20230719T133444Z
LAST-MODIFIED:20230719T133444Z
UID:2895-1696032000-1696118399@hog-verband.de
SUMMARY:30. September 2023 - Reußdorfer Treffen in Estenfeld
DESCRIPTION:
URL:http://hog-verband.de/event/30-september-2023-reussdorfer-treffen-in-estenfeld
END:VEVENT
END:VCALENDAR